BEGIN:VCALENDAR
VERSION:2.0
PRODID:-//wp-events-plugin.com//7.2.3.1//EN
TZID:Europe/Amsterdam
X-WR-TIMEZONE:Europe/Amsterdam
BEGIN:VEVENT
UID:140@gostronger.nl
DTSTART;TZID=Europe/Amsterdam:20240228T190000
DTEND;TZID=Europe/Amsterdam:20240228T200000
DTSTAMP:20240313T152628Z
URL:https://gostronger.nl/reserveren/bootcamp-groepsles-2-2024-02-28/
SUMMARY:Bootcamp Groepsles
DESCRIPTION:Rosmalen\, Park naar ’t Kwekkeltje\, Tim Verstegen
ATTACH;FMTTYPE=image/jpeg:https://gostronger.nl/wp-content/uploads/2024/02
 /WhatsApp-Image-2024-03-08-at-14.50.15.webp
LOCATION:Rosmalen\, Park naar ´t Kwekkeltje\, Parkweg\, Rosmalen\, 5242 CA
 \, Nederland
X-APPLE-STRUCTURED-LOCATION;VALUE=URI;X-ADDRESS=Parkweg\, Rosmalen\, 5242 C
 A\, Nederland;X-APPLE-RADIUS=100;X-TITLE=Rosmalen\, Park naar ´t Kwekkelt
 je:geo:0,0
END:VEVENT
BEGIN:VTIMEZONE
TZID:Europe/Amsterdam
X-LIC-LOCATION:Europe/Amsterdam
BEGIN:STANDARD
DTSTART:20231029T020000
TZOFFSETFROM:+0200
TZOFFSETTO:+0100
TZNAME:CET
END:STANDARD
END:VTIMEZONE
END:VCALENDAR